BEGIN:VCALENDAR
VERSION:2.0
PRODID:-//BiB Pürgen - ECPv6.15.17.1//NONSGML v1.0//EN
CALSCALE:GREGORIAN
METHOD:PUBLISH
X-ORIGINAL-URL:https://buecherei.kueheimnetz.com
X-WR-CALDESC:Veranstaltungen für BiB Pürgen
REFRESH-INTERVAL;VALUE=DURATION:PT1H
X-Robots-Tag:noindex
X-PUBLISHED-TTL:PT1H
BEGIN:VTIMEZONE
TZID:Europe/Berlin
BEGIN:DAYLIGHT
TZOFFSETFROM:+0100
TZOFFSETTO:+0200
TZNAME:CEST
DTSTART:20250330T010000
END:DAYLIGHT
BEGIN:STANDARD
TZOFFSETFROM:+0200
TZOFFSETTO:+0100
TZNAME:CET
DTSTART:20251026T010000
END:STANDARD
BEGIN:DAYLIGHT
TZOFFSETFROM:+0100
TZOFFSETTO:+0200
TZNAME:CEST
DTSTART:20260329T010000
END:DAYLIGHT
BEGIN:STANDARD
TZOFFSETFROM:+0200
TZOFFSETTO:+0100
TZNAME:CET
DTSTART:20261025T010000
END:STANDARD
BEGIN:DAYLIGHT
TZOFFSETFROM:+0100
TZOFFSETTO:+0200
TZNAME:CEST
DTSTART:20270328T010000
END:DAYLIGHT
BEGIN:STANDARD
TZOFFSETFROM:+0200
TZOFFSETTO:+0100
TZNAME:CET
DTSTART:20271031T010000
END:STANDARD
END:VTIMEZONE
BEGIN:VEVENT
DTSTART;TZID=Europe/Berlin:20260620T150000
DTEND;TZID=Europe/Berlin:20260620T160000
DTSTAMP:20260423T134901
CREATED:20260317T091407Z
LAST-MODIFIED:20260323T154420Z
UID:546-1781967600-1781971200@buecherei.kueheimnetz.com
SUMMARY:Wir lesen vor: für Kinder ab 4 Jahre
DESCRIPTION:Wir lesen vor! \n			\n				\n				\n				\n				\n				Wir suchen uns noch ein spannendes Buch für unsere kleinsten Zuhörer*innen aus.  \nWann: 20.06.04.2026\, um 15:00 UhrWo: Gemeindebücherei Pürgen \nFrei & ohne Anmeldung – kommt einfach vorbei!
URL:https://buecherei.kueheimnetz.com/event/wir-lesen-vor-fuer-kinder-ab-3-jahre/
LOCATION:Bücherei Pürgen\, Landsberger Straße 24\, Pürgen\, 86932\, Germany
CATEGORIES:Kinder ab 4 Jahre
END:VEVENT
END:VCALENDAR